BEGIN:VCALENDAR
VERSION:2.0
PRODID:-//Queer Tamil Collective - ECPv6.15.17.1//NONSGML v1.0//EN
CALSCALE:GREGORIAN
METHOD:PUBLISH
X-WR-CALNAME:Queer Tamil Collective
X-ORIGINAL-URL:https://queertamilcollective.com
X-WR-CALDESC:Events for Queer Tamil Collective
REFRESH-INTERVAL;VALUE=DURATION:PT1H
X-Robots-Tag:noindex
X-PUBLISHED-TTL:PT1H
BEGIN:VTIMEZONE
TZID:America/Toronto
BEGIN:DAYLIGHT
TZOFFSETFROM:-0500
TZOFFSETTO:-0400
TZNAME:EDT
DTSTART:20250309T070000
END:DAYLIGHT
BEGIN:STANDARD
TZOFFSETFROM:-0400
TZOFFSETTO:-0500
TZNAME:EST
DTSTART:20251102T060000
END:STANDARD
BEGIN:DAYLIGHT
TZOFFSETFROM:-0500
TZOFFSETTO:-0400
TZNAME:EDT
DTSTART:20260308T070000
END:DAYLIGHT
BEGIN:STANDARD
TZOFFSETFROM:-0400
TZOFFSETTO:-0500
TZNAME:EST
DTSTART:20261101T060000
END:STANDARD
BEGIN:DAYLIGHT
TZOFFSETFROM:-0500
TZOFFSETTO:-0400
TZNAME:EDT
DTSTART:20270314T070000
END:DAYLIGHT
BEGIN:STANDARD
TZOFFSETFROM:-0400
TZOFFSETTO:-0500
TZNAME:EST
DTSTART:20271107T060000
END:STANDARD
END:VTIMEZONE
BEGIN:VEVENT
DTSTART;TZID=America/Toronto:20261101T000000
DTEND;TZID=America/Toronto:20261130T233000
DTSTAMP:20260423T011929
CREATED:20260115T010534Z
LAST-MODIFIED:20260117T073803Z
UID:611-1793491200-1796081400@queertamilcollective.com
SUMMARY:🏳️‍⚧️ Transgender Awareness Month
DESCRIPTION:  \nTransgender Awareness Month centers trans and gender-diverse people\, experiences\, and histories. It raises awareness about discrimination and violence while affirming trans lives\, resilience\, and community care.
URL:https://queertamilcollective.com/event/transgender-awareness-month/
ATTACH;FMTTYPE=image/png:https://queertamilcollective.com/wp-content/uploads/2026/01/November.png
END:VEVENT
BEGIN:VEVENT
DTSTART;VALUE=DATE:20261108
DTEND;VALUE=DATE:20261109
DTSTAMP:20260423T011929
CREATED:20260115T004944Z
LAST-MODIFIED:20260117T073616Z
UID:615-1794096000-1794182399@queertamilcollective.com
SUMMARY:⚧️ Intersex Day of Remembrance
DESCRIPTION:  \nThis day honors intersex people harmed by medical violence. It calls for accountability and consent.
URL:https://queertamilcollective.com/event/intersex-day-of-remembrance/
ATTACH;FMTTYPE=image/png:https://queertamilcollective.com/wp-content/uploads/2026/01/November-8.png
END:VEVENT
BEGIN:VEVENT
DTSTART;TZID=America/Toronto:20261115T000000
DTEND;TZID=America/Toronto:20261121T233000
DTSTAMP:20260423T011929
CREATED:20260115T004653Z
LAST-MODIFIED:20260117T073349Z
UID:617-1794700800-1795303800@queertamilcollective.com
SUMMARY:🏳️‍⚧️ Transgender Awareness Week
DESCRIPTION:  \nThis week educates about trans experiences and challenges. It builds toward remembrance and action.
URL:https://queertamilcollective.com/event/transgender-awareness-week/
ATTACH;FMTTYPE=image/png:https://queertamilcollective.com/wp-content/uploads/2026/01/November-15-21.png
END:VEVENT
BEGIN:VEVENT
DTSTART;VALUE=DATE:20261120
DTEND;VALUE=DATE:20261121
DTSTAMP:20260423T011929
CREATED:20260115T004559Z
LAST-MODIFIED:20260117T073240Z
UID:620-1795132800-1795219199@queertamilcollective.com
SUMMARY:🕯️ Transgender Day of Remembrance
DESCRIPTION:  \nThis day honors trans people lost to violence. It centers grief\, resistance\, and community care.
URL:https://queertamilcollective.com/event/transgender-day-of-remembrance/
ATTACH;FMTTYPE=image/png:https://queertamilcollective.com/wp-content/uploads/2026/01/November-20.png
END:VEVENT
BEGIN:VEVENT
DTSTART;VALUE=DATE:20261201
DTEND;VALUE=DATE:20261202
DTSTAMP:20260423T011929
CREATED:20260115T004056Z
LAST-MODIFIED:20260117T073033Z
UID:624-1796083200-1796169599@queertamilcollective.com
SUMMARY:🎗️ World AIDS Day
DESCRIPTION:  \nThis day remembers lives lost to AIDS and supports those living with HIV. It promotes prevention\, treatment\, and solidarity.
URL:https://queertamilcollective.com/event/world-aids-day/
ATTACH;FMTTYPE=image/png:https://queertamilcollective.com/wp-content/uploads/2026/01/December-1.png
END:VEVENT
BEGIN:VEVENT
DTSTART;TZID=America/Toronto:20261201T000000
DTEND;TZID=America/Toronto:20261231T233000
DTSTAMP:20260423T011929
CREATED:20260115T003659Z
LAST-MODIFIED:20260117T072918Z
UID:622-1796083200-1798759800@queertamilcollective.com
SUMMARY:🎗️ HIV/AIDS Awareness Month
DESCRIPTION:  \nHIV/AIDS Awareness Month honors those lost to AIDS and supports people living with HIV. It promotes education\, prevention\, treatment access\, and the ongoing fight against stigma and misinformation.
URL:https://queertamilcollective.com/event/hiv-aids-awareness-month/
ATTACH;FMTTYPE=image/png:https://queertamilcollective.com/wp-content/uploads/2026/01/December.png
END:VEVENT
BEGIN:VEVENT
DTSTART;VALUE=DATE:20261208
DTEND;VALUE=DATE:20261209
DTSTAMP:20260423T011929
CREATED:20260115T002730Z
LAST-MODIFIED:20260117T072753Z
UID:626-1796688000-1796774399@queertamilcollective.com
SUMMARY:💖💛💙 Pansexual / Panromantic Pride Day
DESCRIPTION:  \nThis day celebrates pan identities and visibility. It affirms attraction beyond gender.
URL:https://queertamilcollective.com/event/pansexual-panromantic-pride-day/
ATTACH;FMTTYPE=image/png:https://queertamilcollective.com/wp-content/uploads/2026/01/December-8.png
END:VEVENT
BEGIN:VEVENT
DTSTART;VALUE=DATE:20261214
DTEND;VALUE=DATE:20261215
DTSTAMP:20260423T011929
CREATED:20260115T002535Z
LAST-MODIFIED:20260117T072649Z
UID:628-1797206400-1797292799@queertamilcollective.com
SUMMARY:🧬 HIV Cure Research Day
DESCRIPTION:This day highlights efforts toward an HIV cure. It recognizes scientific and community leadership.
URL:https://queertamilcollective.com/event/hiv-cure-research-day/
ATTACH;FMTTYPE=image/png:https://queertamilcollective.com/wp-content/uploads/2026/01/December-14.png
END:VEVENT
BEGIN:VEVENT
DTSTART;VALUE=DATE:20261217
DTEND;VALUE=DATE:20261218
DTSTAMP:20260423T011929
CREATED:20260115T002315Z
LAST-MODIFIED:20260117T041823Z
UID:630-1797465600-1797551999@queertamilcollective.com
SUMMARY:🕯️ International Day to End Violence Against Sex Workers
DESCRIPTION:This day honors sex workers lost to violence. It calls for safety\, dignity\, and human rights.
URL:https://queertamilcollective.com/event/international-day-to-end-violence-against-sex-workers/
ATTACH;FMTTYPE=image/png:https://queertamilcollective.com/wp-content/uploads/2026/01/December-17.png
END:VEVENT
END:VCALENDAR