BEGIN:VCALENDAR
VERSION:2.0
PRODID:-//Queer Tamil Collective - ECPv6.15.17.1//NONSGML v1.0//EN
CALSCALE:GREGORIAN
METHOD:PUBLISH
X-ORIGINAL-URL:https://queertamilcollective.com
X-WR-CALDESC:Events for Queer Tamil Collective
REFRESH-INTERVAL;VALUE=DURATION:PT1H
X-Robots-Tag:noindex
X-PUBLISHED-TTL:PT1H
BEGIN:VTIMEZONE
TZID:America/Toronto
BEGIN:DAYLIGHT
TZOFFSETFROM:-0500
TZOFFSETTO:-0400
TZNAME:EDT
DTSTART:20250309T070000
END:DAYLIGHT
BEGIN:STANDARD
TZOFFSETFROM:-0400
TZOFFSETTO:-0500
TZNAME:EST
DTSTART:20251102T060000
END:STANDARD
BEGIN:DAYLIGHT
TZOFFSETFROM:-0500
TZOFFSETTO:-0400
TZNAME:EDT
DTSTART:20260308T070000
END:DAYLIGHT
BEGIN:STANDARD
TZOFFSETFROM:-0400
TZOFFSETTO:-0500
TZNAME:EST
DTSTART:20261101T060000
END:STANDARD
BEGIN:DAYLIGHT
TZOFFSETFROM:-0500
TZOFFSETTO:-0400
TZNAME:EDT
DTSTART:20270314T070000
END:DAYLIGHT
BEGIN:STANDARD
TZOFFSETFROM:-0400
TZOFFSETTO:-0500
TZNAME:EST
DTSTART:20271107T060000
END:STANDARD
END:VTIMEZONE
BEGIN:VEVENT
DTSTART;TZID=America/Toronto:20260420T000000
DTEND;TZID=America/Toronto:20260426T233000
DTSTAMP:20260422T185848
CREATED:20260115T015739Z
LAST-MODIFIED:20260117T090454Z
UID:726-1776643200-1777246200@queertamilcollective.com
SUMMARY:💖 Lesbian Visibility Week
DESCRIPTION:Lesbian Visibility Week (April 20–26) celebrates the lives\, stories\, and contributions of lesbians around the world.It’s a time to uplift lesbian voices\, challenge stereotypes\, and build visibility\, pride\, and community. 🌈
URL:https://queertamilcollective.com/event/%f0%9f%92%96-lesbian-visibility-week/
ATTACH;FMTTYPE=image/png:https://queertamilcollective.com/wp-content/uploads/2026/01/April-20–26.png
END:VEVENT
BEGIN:VEVENT
DTSTART;VALUE=DATE:20260426
DTEND;VALUE=DATE:20260427
DTSTAMP:20260422T185848
CREATED:20260115T015103Z
LAST-MODIFIED:20260117T090256Z
UID:527-1777161600-1777247999@queertamilcollective.com
SUMMARY:🌺Lesbian Visibility Day
DESCRIPTION:  \nA day within Lesbian Visibility Week focused on celebrating lesbian identity and challenging erasure in both queer and mainstream spaces.
URL:https://queertamilcollective.com/event/lesbian-visibility-day/
ATTACH;FMTTYPE=image/png:https://queertamilcollective.com/wp-content/uploads/2026/01/April-26.png
END:VEVENT
BEGIN:VEVENT
DTSTART;VALUE=DATE:20260504
DTEND;VALUE=DATE:20260505
DTSTAMP:20260422T185848
CREATED:20260115T020535Z
LAST-MODIFIED:20260117T090144Z
UID:532-1777852800-1777939199@queertamilcollective.com
SUMMARY:👨‍👩‍👧‍👦 International Family Equality Day
DESCRIPTION:This day celebrates LGBTQ+ families and chosen families worldwide. It advocates for equal rights\, protection\, and recognition.
URL:https://queertamilcollective.com/event/international-family-equality-day/
ATTACH;FMTTYPE=image/png:https://queertamilcollective.com/wp-content/uploads/2026/01/May-4.png
END:VEVENT
BEGIN:VEVENT
DTSTART;TZID=America/Toronto:20260504T000000
DTEND;TZID=America/Toronto:20260510T233000
DTSTAMP:20260422T185848
CREATED:20260115T020619Z
LAST-MODIFIED:20260117T090042Z
UID:534-1777852800-1778455800@queertamilcollective.com
SUMMARY:🏳️‍⚧️📜 Trans+ History Week
DESCRIPTION:This week highlights the often-erased history of trans and gender-diverse people. It honors past activism\, resistance\, and community leadership.
URL:https://queertamilcollective.com/event/trans-history-week/
ATTACH;FMTTYPE=image/png:https://queertamilcollective.com/wp-content/uploads/2026/01/May-4–10.png
END:VEVENT
BEGIN:VEVENT
DTSTART;VALUE=DATE:20260516
DTEND;VALUE=DATE:20260517
DTSTAMP:20260422T185848
CREATED:20260115T014247Z
LAST-MODIFIED:20260117T085844Z
UID:536-1778889600-1778975999@queertamilcollective.com
SUMMARY:🧓🌈 International Honor Our LGBT Elders Day
DESCRIPTION:  \nThis day recognizes LGBTQ+ elders for their contributions and survival. It also raises awareness of aging-related inequities.
URL:https://queertamilcollective.com/event/international-honor-our-lgbt-elders-day/
ATTACH;FMTTYPE=image/png:https://queertamilcollective.com/wp-content/uploads/2026/01/May-16.png
END:VEVENT
BEGIN:VEVENT
DTSTART;VALUE=DATE:20260517
DTEND;VALUE=DATE:20260518
DTSTAMP:20260422T185848
CREATED:20260115T020710Z
LAST-MODIFIED:20260117T085701Z
UID:538-1778976000-1779062399@queertamilcollective.com
SUMMARY:🚫🏳️‍🌈 IDAHOBIT (International Day Against Homophobia\, Transphobia & Biphobia)
DESCRIPTION:  \nThis global day opposes homophobia\, transphobia\, and biphobia. It commemorates the removal of homosexuality from the WHO’s list of diseases.
URL:https://queertamilcollective.com/event/idahobit-international-day-against-homophobia-transphobia-biphobia/
ATTACH;FMTTYPE=image/png:https://queertamilcollective.com/wp-content/uploads/2026/01/May-17.png
END:VEVENT
BEGIN:VEVENT
DTSTART;VALUE=DATE:20260518
DTEND;VALUE=DATE:20260519
DTSTAMP:20260422T185848
CREATED:20260115T020754Z
LAST-MODIFIED:20260117T085531Z
UID:540-1779062400-1779148799@queertamilcollective.com
SUMMARY:🧬 World AIDS Vaccine Day
DESCRIPTION:  \nThis day acknowledges ongoing HIV vaccine research. It honors scientific collaboration and community participation.
URL:https://queertamilcollective.com/event/world-aids-vaccine-day/
ATTACH;FMTTYPE=image/png:https://queertamilcollective.com/wp-content/uploads/2026/01/May-18.png
END:VEVENT
BEGIN:VEVENT
DTSTART;VALUE=DATE:20260519
DTEND;VALUE=DATE:20260520
DTSTAMP:20260422T185848
CREATED:20260115T014058Z
LAST-MODIFIED:20260117T085251Z
UID:542-1779148800-1779235199@queertamilcollective.com
SUMMARY:⚪ Agender Pride Day
DESCRIPTION:  \nThis day celebrates agender identities and experiences. It affirms self-definition beyond gender categories.
URL:https://queertamilcollective.com/event/agender-pride-day/
ATTACH;FMTTYPE=image/png:https://queertamilcollective.com/wp-content/uploads/2026/01/May-19.png
END:VEVENT
BEGIN:VEVENT
DTSTART;VALUE=DATE:20260519
DTEND;VALUE=DATE:20260520
DTSTAMP:20260422T185848
CREATED:20260115T014151Z
LAST-MODIFIED:20260117T085140Z
UID:544-1779148800-1779235199@queertamilcollective.com
SUMMARY:🌏 National Asian & Pacific Islander HIV/AIDS Awareness Day
DESCRIPTION:  \nThis day raises awareness about HIV in AAPI communities. It addresses stigma\, access barriers\, and culturally responsive care.
URL:https://queertamilcollective.com/event/national-asian-pacific-islander-hiv-aids-awareness-day/
ATTACH;FMTTYPE=image/png:https://queertamilcollective.com/wp-content/uploads/2026/01/May-19.0.png
END:VEVENT
BEGIN:VEVENT
DTSTART;VALUE=DATE:20260522
DTEND;VALUE=DATE:20260523
DTSTAMP:20260422T185848
CREATED:20260115T020344Z
LAST-MODIFIED:20260117T085026Z
UID:546-1779408000-1779494399@queertamilcollective.com
SUMMARY:🥛🏳️‍🌈 Harvey Milk Day
DESCRIPTION:  \nThis day honors LGBTQ+ civil rights activism and political courage. It encourages civic engagement and visibility.
URL:https://queertamilcollective.com/event/harvey-milk-day/
ATTACH;FMTTYPE=image/png:https://queertamilcollective.com/wp-content/uploads/2026/01/May-22.png
END:VEVENT
BEGIN:VEVENT
DTSTART;VALUE=DATE:20260524
DTEND;VALUE=DATE:20260525
DTSTAMP:20260422T185848
CREATED:20260115T020301Z
LAST-MODIFIED:20260117T084947Z
UID:548-1779580800-1779667199@queertamilcollective.com
SUMMARY:💖💛💙 Pansexual / Panromantic Visibility Day
DESCRIPTION:  \nThis day celebrates attraction beyond gender. It challenges erasure and stereotypes.
URL:https://queertamilcollective.com/event/pansexual-panromantic-visibility-day/
ATTACH;FMTTYPE=image/png:https://queertamilcollective.com/wp-content/uploads/2026/01/May-24.png
END:VEVENT
BEGIN:VEVENT
DTSTART;VALUE=DATE:20260601
DTEND;VALUE=DATE:20260602
DTSTAMP:20260422T185848
CREATED:20260115T020837Z
LAST-MODIFIED:20260117T084756Z
UID:550-1780272000-1780358399@queertamilcollective.com
SUMMARY:👨‍👩‍👧‍👦 LGBTQ+ Families Day
DESCRIPTION:This day celebrates LGBTQ+ parents and chosen families. It highlights love\, care\, and equality.
URL:https://queertamilcollective.com/event/lgbtq-families-day/
ATTACH;FMTTYPE=image/png:https://queertamilcollective.com/wp-content/uploads/2026/01/June-1.png
END:VEVENT
BEGIN:VEVENT
DTSTART;TZID=America/Toronto:20260601T000000
DTEND;TZID=America/Toronto:20260630T233000
DTSTAMP:20260422T185848
CREATED:20260115T040109Z
LAST-MODIFIED:20260117T084651Z
UID:576-1780272000-1782862200@queertamilcollective.com
SUMMARY:🏳️‍🌈 Pride Month
DESCRIPTION:  \nPride Month celebrates LGBTQ+ identities\, communities\, and resistance rooted in the Stonewall uprising. It honors queer joy while recognizing ongoing struggles for safety\, equity\, and liberation worldwide.
URL:https://queertamilcollective.com/event/pride-month/
ATTACH;FMTTYPE=image/png:https://queertamilcollective.com/wp-content/uploads/2026/01/Pride-Month.png
END:VEVENT
BEGIN:VEVENT
DTSTART;VALUE=DATE:20260605
DTEND;VALUE=DATE:20260606
DTSTAMP:20260422T185848
CREATED:20260115T020921Z
LAST-MODIFIED:20260117T084615Z
UID:552-1780617600-1780703999@queertamilcollective.com
SUMMARY:💚 Aromantic Visibility Day
DESCRIPTION:  \nThis day recognizes aromantic identities and experiences. It challenges assumptions that romance is universal.
URL:https://queertamilcollective.com/event/aromantic-visibility-day/
ATTACH;FMTTYPE=image/png:https://queertamilcollective.com/wp-content/uploads/2026/01/June-5.png
END:VEVENT
BEGIN:VEVENT
DTSTART;VALUE=DATE:20260612
DTEND;VALUE=DATE:20260613
DTSTAMP:20260422T185848
CREATED:20260115T021100Z
LAST-MODIFIED:20260117T084538Z
UID:554-1781222400-1781308799@queertamilcollective.com
SUMMARY:🕯️ Pulse Night of Remembrance
DESCRIPTION:  \nThis day honors those killed in the 2016 Pulse nightclub shooting. It remembers lives lost to anti-LGBTQ+ violence.
URL:https://queertamilcollective.com/event/pulse-night-of-remembrance/
ATTACH;FMTTYPE=image/png:https://queertamilcollective.com/wp-content/uploads/2026/01/June-12.png
END:VEVENT
BEGIN:VEVENT
DTSTART;VALUE=DATE:20260626
DTEND;VALUE=DATE:20260627
DTSTAMP:20260422T185848
CREATED:20260115T035943Z
LAST-MODIFIED:20260117T084427Z
UID:556-1782432000-1782518399@queertamilcollective.com
SUMMARY:⚖️ LGBTQ+ Equality Day
DESCRIPTION:  \nLGBTQ+ Equality Day recognizes the ongoing work toward equal rights\, protections\, and dignity for LGBTQ+ people. It’s a moment to reflect on progress made while affirming the importance of inclusion\, safety\, and fairness for all.
URL:https://queertamilcollective.com/event/lgbtq-equality-day/
ATTACH;FMTTYPE=image/png:https://queertamilcollective.com/wp-content/uploads/2026/01/June-26.png
END:VEVENT
BEGIN:VEVENT
DTSTART;VALUE=DATE:20260627
DTEND;VALUE=DATE:20260628
DTSTAMP:20260422T185848
CREATED:20260115T021141Z
LAST-MODIFIED:20260117T084237Z
UID:558-1782518400-1782604799@queertamilcollective.com
SUMMARY:🧪 National HIV Testing Day
DESCRIPTION:  \nThis day promotes regular HIV testing and prevention. It supports informed\, stigma-free healthcare choices.
URL:https://queertamilcollective.com/event/national-hiv-testing-day/
ATTACH;FMTTYPE=image/png:https://queertamilcollective.com/wp-content/uploads/2026/01/June-27.png
END:VEVENT
BEGIN:VEVENT
DTSTART;VALUE=DATE:20260628
DTEND;VALUE=DATE:20260629
DTSTAMP:20260422T185848
CREATED:20260115T021324Z
LAST-MODIFIED:20260117T084135Z
UID:560-1782604800-1782691199@queertamilcollective.com
SUMMARY:🔥 Stonewall Riots Anniversary
DESCRIPTION:  \nThis day commemorates the 1969 uprising that sparked the modern LGBTQ+ rights movement. It honors resistance led by trans women and queer people of color.
URL:https://queertamilcollective.com/event/stonewall-riots-anniversary/
ATTACH;FMTTYPE=image/png:https://queertamilcollective.com/wp-content/uploads/2026/01/June-28.png
END:VEVENT
BEGIN:VEVENT
DTSTART;VALUE=DATE:20260630
DTEND;VALUE=DATE:20260701
DTSTAMP:20260422T185848
CREATED:20260115T040344Z
LAST-MODIFIED:20260117T083906Z
UID:562-1782777600-1782863999@queertamilcollective.com
SUMMARY:🕊️ Queer Youth of Faith Day
DESCRIPTION:This day affirms LGBTQ+ youth navigating faith and identity. It centers belonging without requiring erasure.
URL:https://queertamilcollective.com/event/queer-youth-of-faith-day/
ATTACH;FMTTYPE=image/png:https://queertamilcollective.com/wp-content/uploads/2026/01/June-30-1.png
END:VEVENT
BEGIN:VEVENT
DTSTART;TZID=America/Toronto:20260701T000000
DTEND;TZID=America/Toronto:20260731T233000
DTSTAMP:20260422T185848
CREATED:20260115T041253Z
LAST-MODIFIED:20260117T083704Z
UID:578-1782864000-1785540600@queertamilcollective.com
SUMMARY:♿ Disability Pride Month
DESCRIPTION:Disability Pride Month centers disabled people\, culture\, and identity. It challenges ableism\, promotes accessibility\, and affirms disability as a natural part of human diversity.
URL:https://queertamilcollective.com/event/disability-pride-month/
ATTACH;FMTTYPE=image/png:https://queertamilcollective.com/wp-content/uploads/2026/01/Disability-Pride-Month-Juky.png
END:VEVENT
BEGIN:VEVENT
DTSTART;VALUE=DATE:20260702
DTEND;VALUE=DATE:20260703
DTSTAMP:20260422T185848
CREATED:20260115T040559Z
LAST-MODIFIED:20260117T083410Z
UID:566-1782950400-1783036799@queertamilcollective.com
SUMMARY:🏳️‍⚧️ Sylvia Rivera’s Birthday
DESCRIPTION:  \nThis day honors the legacy of trans activist Sylvia Rivera. She was a key figure in queer liberation and mutual aid.
URL:https://queertamilcollective.com/event/sylvia-riveras-birthday/
ATTACH;FMTTYPE=image/png:https://queertamilcollective.com/wp-content/uploads/2026/01/July-2.png
END:VEVENT
BEGIN:VEVENT
DTSTART;TZID=America/Toronto:20260712T000000
DTEND;TZID=America/Toronto:20260718T233000
DTSTAMP:20260422T185848
CREATED:20260115T040212Z
LAST-MODIFIED:20260117T083259Z
UID:568-1783814400-1784417400@queertamilcollective.com
SUMMARY:🟨⬜⬛ Nonbinary Awareness Week
DESCRIPTION:  \nThis week raises visibility for nonbinary identities. It challenges rigid gender norms and promotes respect.
URL:https://queertamilcollective.com/event/nonbinary-awareness-week/
ATTACH;FMTTYPE=image/png:https://queertamilcollective.com/wp-content/uploads/2026/01/July-12-to-18.png
END:VEVENT
BEGIN:VEVENT
DTSTART;VALUE=DATE:20260714
DTEND;VALUE=DATE:20260715
DTSTAMP:20260422T185848
CREATED:20260115T021011Z
LAST-MODIFIED:20260117T083208Z
UID:570-1783987200-1784073599@queertamilcollective.com
SUMMARY:🟨⬜⬛ International Nonbinary People’s Day
DESCRIPTION:  \nThis day celebrates nonbinary people worldwide. It affirms recognition beyond the gender binary.
URL:https://queertamilcollective.com/event/international-nonbinary-peoples-day/
ATTACH;FMTTYPE=image/png:https://queertamilcollective.com/wp-content/uploads/2026/01/July-14.png
END:VEVENT
BEGIN:VEVENT
DTSTART;VALUE=DATE:20260716
DTEND;VALUE=DATE:20260717
DTSTAMP:20260422T185848
CREATED:20260115T041159Z
LAST-MODIFIED:20260117T082922Z
UID:572-1784160000-1784246399@queertamilcollective.com
SUMMARY:🎭 International Drag Day
DESCRIPTION:  \nThis day honors drag as art\, resistance\, and cultural expression. It celebrates creativity and gender play.
URL:https://queertamilcollective.com/event/international-drag-day/
ATTACH;FMTTYPE=image/png:https://queertamilcollective.com/wp-content/uploads/2026/01/July-16.png
END:VEVENT
BEGIN:VEVENT
DTSTART;VALUE=DATE:20260814
DTEND;VALUE=DATE:20260815
DTSTAMP:20260422T185848
CREATED:20260115T040911Z
LAST-MODIFIED:20260117T082813Z
UID:580-1786665600-1786751999@queertamilcollective.com
SUMMARY:👨‍👦 Gay Uncles Day
DESCRIPTION:  \nThis day celebrates gay uncles and chosen family roles. It highlights mentorship\, care\, and visibility.
URL:https://queertamilcollective.com/event/gay-uncles-day/
ATTACH;FMTTYPE=image/png:https://queertamilcollective.com/wp-content/uploads/2026/01/August-14.png
END:VEVENT
BEGIN:VEVENT
DTSTART;VALUE=DATE:20260820
DTEND;VALUE=DATE:20260821
DTSTAMP:20260422T185848
CREATED:20260115T021223Z
LAST-MODIFIED:20260117T082547Z
UID:582-1787184000-1787270399@queertamilcollective.com
SUMMARY:🌎 Southern HIV/AIDS Awareness Day
DESCRIPTION:This day focuses on HIV impacts in the southern United States. It addresses stigma\, access barriers\, and prevention.
URL:https://queertamilcollective.com/event/southern-hiv-aids-awareness-day/
ATTACH;FMTTYPE=image/png:https://queertamilcollective.com/wp-content/uploads/2026/01/August-20.png
END:VEVENT
BEGIN:VEVENT
DTSTART;VALUE=DATE:20260824
DTEND;VALUE=DATE:20260825
DTSTAMP:20260422T185849
CREATED:20260115T041348Z
LAST-MODIFIED:20260117T082351Z
UID:584-1787529600-1787615999@queertamilcollective.com
SUMMARY:🏳️‍⚧️ Marsha P. Johnson’s Birthday
DESCRIPTION:  \nThis day honors the legacy of a trans activist and organizer. Her work remains foundational to queer liberation.
URL:https://queertamilcollective.com/event/marsha-p-johnsons-birthday/
ATTACH;FMTTYPE=image/png:https://queertamilcollective.com/wp-content/uploads/2026/01/August-24.png
END:VEVENT
BEGIN:VEVENT
DTSTART;VALUE=DATE:20260918
DTEND;VALUE=DATE:20260919
DTSTAMP:20260422T185849
CREATED:20260115T040822Z
LAST-MODIFIED:20260117T082315Z
UID:586-1789689600-1789775999@queertamilcollective.com
SUMMARY:🧓 National HIV/AIDS & Aging Awareness Day
DESCRIPTION:  \nThis day centers older adults living with HIV. It addresses aging\, care access\, and long-term support.
URL:https://queertamilcollective.com/event/national-hiv-aids-aging-awareness-day/
ATTACH;FMTTYPE=image/png:https://queertamilcollective.com/wp-content/uploads/2026/01/September-18.png
END:VEVENT
BEGIN:VEVENT
DTSTART;TZID=America/Toronto:20260920T000000
DTEND;TZID=America/Toronto:20260926T233000
DTSTAMP:20260422T185849
CREATED:20260115T041453Z
LAST-MODIFIED:20260117T082159Z
UID:588-1789862400-1790465400@queertamilcollective.com
SUMMARY:💗💜💙 Bisexual Awareness Week
DESCRIPTION:  \nThis week highlights bisexual identities and experiences. It challenges bi-erasure and stigma.
URL:https://queertamilcollective.com/event/bisexual-awareness-week/
ATTACH;FMTTYPE=image/png:https://queertamilcollective.com/wp-content/uploads/2026/01/September-20-26.png
END:VEVENT
BEGIN:VEVENT
DTSTART;VALUE=DATE:20260923
DTEND;VALUE=DATE:20260924
DTSTAMP:20260422T185849
CREATED:20260115T011744Z
LAST-MODIFIED:20260117T082108Z
UID:590-1790121600-1790207999@queertamilcollective.com
SUMMARY:💗💜💙 Bisexual Visibility Day
DESCRIPTION:  \nThis day celebrates bisexual people across communities. It promotes recognition and inclusion.
URL:https://queertamilcollective.com/event/bisexual-visibility-day/
ATTACH;FMTTYPE=image/png:https://queertamilcollective.com/wp-content/uploads/2026/01/September-23.png
END:VEVENT
END:VCALENDAR