BEGIN:VCALENDAR
VERSION:2.0
PRODID:-//Queer Tamil Collective - ECPv6.15.17.1//NONSGML v1.0//EN
CALSCALE:GREGORIAN
METHOD:PUBLISH
X-WR-CALNAME:Queer Tamil Collective
X-ORIGINAL-URL:https://queertamilcollective.com
X-WR-CALDESC:Events for Queer Tamil Collective
REFRESH-INTERVAL;VALUE=DURATION:PT1H
X-Robots-Tag:noindex
X-PUBLISHED-TTL:PT1H
BEGIN:VTIMEZONE
TZID:America/Toronto
BEGIN:DAYLIGHT
TZOFFSETFROM:-0500
TZOFFSETTO:-0400
TZNAME:EDT
DTSTART:20250309T070000
END:DAYLIGHT
BEGIN:STANDARD
TZOFFSETFROM:-0400
TZOFFSETTO:-0500
TZNAME:EST
DTSTART:20251102T060000
END:STANDARD
BEGIN:DAYLIGHT
TZOFFSETFROM:-0500
TZOFFSETTO:-0400
TZNAME:EDT
DTSTART:20260308T070000
END:DAYLIGHT
BEGIN:STANDARD
TZOFFSETFROM:-0400
TZOFFSETTO:-0500
TZNAME:EST
DTSTART:20261101T060000
END:STANDARD
BEGIN:DAYLIGHT
TZOFFSETFROM:-0500
TZOFFSETTO:-0400
TZNAME:EDT
DTSTART:20270314T070000
END:DAYLIGHT
BEGIN:STANDARD
TZOFFSETFROM:-0400
TZOFFSETTO:-0500
TZNAME:EST
DTSTART:20271107T060000
END:STANDARD
END:VTIMEZONE
BEGIN:VEVENT
DTSTART;TZID=America/Toronto:20260124T100000
DTEND;TZID=America/Toronto:20260124T150000
DTSTAMP:20260419T073440
CREATED:20251210T165115Z
LAST-MODIFIED:20260113T163830Z
UID:261-1769248800-1769266800@queertamilcollective.com
SUMMARY:Tamil Heritage Month Celebration
DESCRIPTION:Tamil Heritage Month is a time to honour our language\, culture\, art\, and history. The Tamil LGBTQ+ community is an essential part of this story — their courage\, creativity\, and lived experiences add depth and strength to our heritage. Their voices keep our culture alive\, proud\, and evolving.
URL:https://queertamilcollective.com/event/tamil-heritage-month-celebration/
CATEGORIES:THM
ATTACH;FMTTYPE=image/jpeg:https://queertamilcollective.com/wp-content/uploads/2026/01/20250119_125645-scaled.jpg
ORGANIZER;CN="Queer Tamil Collective":MAILTO:admin@queertamilcollective.com
END:VEVENT
END:VCALENDAR