BEGIN:VCALENDAR
VERSION:2.0
PRODID:-//Queer Tamil Collective - ECPv6.15.17.1//NONSGML v1.0//EN
CALSCALE:GREGORIAN
METHOD:PUBLISH
X-ORIGINAL-URL:https://queertamilcollective.com
X-WR-CALDESC:Events for Queer Tamil Collective
REFRESH-INTERVAL;VALUE=DURATION:PT1H
X-Robots-Tag:noindex
X-PUBLISHED-TTL:PT1H
BEGIN:VTIMEZONE
TZID:America/Toronto
BEGIN:DAYLIGHT
TZOFFSETFROM:-0500
TZOFFSETTO:-0400
TZNAME:EDT
DTSTART:20250309T070000
END:DAYLIGHT
BEGIN:STANDARD
TZOFFSETFROM:-0400
TZOFFSETTO:-0500
TZNAME:EST
DTSTART:20251102T060000
END:STANDARD
BEGIN:DAYLIGHT
TZOFFSETFROM:-0500
TZOFFSETTO:-0400
TZNAME:EDT
DTSTART:20260308T070000
END:DAYLIGHT
BEGIN:STANDARD
TZOFFSETFROM:-0400
TZOFFSETTO:-0500
TZNAME:EST
DTSTART:20261101T060000
END:STANDARD
BEGIN:DAYLIGHT
TZOFFSETFROM:-0500
TZOFFSETTO:-0400
TZNAME:EDT
DTSTART:20270314T070000
END:DAYLIGHT
BEGIN:STANDARD
TZOFFSETFROM:-0400
TZOFFSETTO:-0500
TZNAME:EST
DTSTART:20271107T060000
END:STANDARD
END:VTIMEZONE
BEGIN:VEVENT
DTSTART;TZID=America/Toronto:20261001T000000
DTEND;TZID=America/Toronto:20261031T233000
DTSTAMP:20260419T075946
CREATED:20260115T013441Z
LAST-MODIFIED:20260117T081714Z
UID:594-1790812800-1793489400@queertamilcollective.com
SUMMARY:🏳️‍🌈 LGBTQ+ History Month
DESCRIPTION:LGBTQ+ History Month honors the histories\, movements\, and contributions of LGBTQ+ people across generations. It highlights stories often erased from mainstream narratives while connecting past resistance to present struggles for equality and justice.
URL:https://queertamilcollective.com/event/lgbtq-history-month/
ATTACH;FMTTYPE=image/png:https://queertamilcollective.com/wp-content/uploads/2026/01/October.png
END:VEVENT
BEGIN:VEVENT
DTSTART;VALUE=DATE:20261015
DTEND;VALUE=DATE:20261016
DTSTAMP:20260419T075946
CREATED:20260115T011903Z
LAST-MODIFIED:20260117T080922Z
UID:602-1792022400-1792108799@queertamilcollective.com
SUMMARY:🗣️ International Pronouns Day
DESCRIPTION:  \nThis day encourages respecting and sharing pronouns. It supports gender autonomy and inclusion.
URL:https://queertamilcollective.com/event/international-pronouns-day/
ATTACH;FMTTYPE=image/png:https://queertamilcollective.com/wp-content/uploads/2026/01/Oct-15.png
END:VEVENT
BEGIN:VEVENT
DTSTART;VALUE=DATE:20261015
DTEND;VALUE=DATE:20261016
DTSTAMP:20260419T075946
CREATED:20260115T012129Z
LAST-MODIFIED:20260117T080841Z
UID:600-1792022400-1792108799@queertamilcollective.com
SUMMARY:🌎 National Latinx HIV/AIDS Awareness Day
DESCRIPTION:  \nThis day raises awareness within Latinx communities. It addresses stigma and healthcare access.
URL:https://queertamilcollective.com/event/national-latinx-hiv-aids-awareness-day/
ATTACH;FMTTYPE=image/png:https://queertamilcollective.com/wp-content/uploads/2026/01/Oct-15-2.png
END:VEVENT
END:VCALENDAR