BEGIN:VCALENDAR
VERSION:2.0
PRODID:-//Queer Tamil Collective - ECPv6.15.17.1//NONSGML v1.0//EN
CALSCALE:GREGORIAN
METHOD:PUBLISH
X-WR-CALNAME:Queer Tamil Collective
X-ORIGINAL-URL:https://queertamilcollective.com
X-WR-CALDESC:Events for Queer Tamil Collective
REFRESH-INTERVAL;VALUE=DURATION:PT1H
X-Robots-Tag:noindex
X-PUBLISHED-TTL:PT1H
BEGIN:VTIMEZONE
TZID:America/Toronto
BEGIN:DAYLIGHT
TZOFFSETFROM:-0500
TZOFFSETTO:-0400
TZNAME:EDT
DTSTART:20250309T070000
END:DAYLIGHT
BEGIN:STANDARD
TZOFFSETFROM:-0400
TZOFFSETTO:-0500
TZNAME:EST
DTSTART:20251102T060000
END:STANDARD
BEGIN:DAYLIGHT
TZOFFSETFROM:-0500
TZOFFSETTO:-0400
TZNAME:EDT
DTSTART:20260308T070000
END:DAYLIGHT
BEGIN:STANDARD
TZOFFSETFROM:-0400
TZOFFSETTO:-0500
TZNAME:EST
DTSTART:20261101T060000
END:STANDARD
BEGIN:DAYLIGHT
TZOFFSETFROM:-0500
TZOFFSETTO:-0400
TZNAME:EDT
DTSTART:20270314T070000
END:DAYLIGHT
BEGIN:STANDARD
TZOFFSETFROM:-0400
TZOFFSETTO:-0500
TZNAME:EST
DTSTART:20271107T060000
END:STANDARD
END:VTIMEZONE
BEGIN:VEVENT
DTSTART;VALUE=DATE:20260331
DTEND;VALUE=DATE:20260401
DTSTAMP:20260422T171907
CREATED:20260115T020015Z
LAST-MODIFIED:20260117T090948Z
UID:515-1774915200-1775001599@queertamilcollective.com
SUMMARY:🏳️‍⚧️International Trans Day of Visibility
DESCRIPTION:  \nA global day celebrating trans and gender-diverse people while raising awareness about discrimination\, safety\, and the need for full social and legal recognition.
URL:https://queertamilcollective.com/event/international-trans-day-of-visibility/
ATTACH;FMTTYPE=image/png:https://queertamilcollective.com/wp-content/uploads/2026/01/March-31.png
END:VEVENT
END:VCALENDAR