BEGIN:VCALENDAR
VERSION:2.0
PRODID:-//Queer Tamil Collective - ECPv6.15.17.1//NONSGML v1.0//EN
CALSCALE:GREGORIAN
METHOD:PUBLISH
X-ORIGINAL-URL:https://queertamilcollective.com
X-WR-CALDESC:Events for Queer Tamil Collective
REFRESH-INTERVAL;VALUE=DURATION:PT1H
X-Robots-Tag:noindex
X-PUBLISHED-TTL:PT1H
BEGIN:VTIMEZONE
TZID:America/Toronto
BEGIN:DAYLIGHT
TZOFFSETFROM:-0500
TZOFFSETTO:-0400
TZNAME:EDT
DTSTART:20250309T070000
END:DAYLIGHT
BEGIN:STANDARD
TZOFFSETFROM:-0400
TZOFFSETTO:-0500
TZNAME:EST
DTSTART:20251102T060000
END:STANDARD
BEGIN:DAYLIGHT
TZOFFSETFROM:-0500
TZOFFSETTO:-0400
TZNAME:EDT
DTSTART:20260308T070000
END:DAYLIGHT
BEGIN:STANDARD
TZOFFSETFROM:-0400
TZOFFSETTO:-0500
TZNAME:EST
DTSTART:20261101T060000
END:STANDARD
BEGIN:DAYLIGHT
TZOFFSETFROM:-0500
TZOFFSETTO:-0400
TZNAME:EDT
DTSTART:20270314T070000
END:DAYLIGHT
BEGIN:STANDARD
TZOFFSETFROM:-0400
TZOFFSETTO:-0500
TZNAME:EST
DTSTART:20271107T060000
END:STANDARD
END:VTIMEZONE
BEGIN:VEVENT
DTSTART;TZID=America/Toronto:20260316T000000
DTEND;TZID=America/Toronto:20260320T233000
DTSTAMP:20260422T184311
CREATED:20260115T014927Z
LAST-MODIFIED:20260117T091212Z
UID:511-1773619200-1774049400@queertamilcollective.com
SUMMARY:🏳️‍🌈National LGBTQ+ Health Awareness Week
DESCRIPTION:  \nA week focused on health equity for LGBTQ+ people\, including access to affirming care\, mental health support\, and culturally competent services.
URL:https://queertamilcollective.com/event/national-lgbtq-health-awareness-week/
ATTACH;FMTTYPE=image/png:https://queertamilcollective.com/wp-content/uploads/2026/01/March-16-to-20.png
END:VEVENT
END:VCALENDAR