BEGIN:VCALENDAR
VERSION:2.0
PRODID:-//Queer Tamil Collective - ECPv6.15.17.1//NONSGML v1.0//EN
CALSCALE:GREGORIAN
METHOD:PUBLISH
X-WR-CALNAME:Queer Tamil Collective
X-ORIGINAL-URL:https://queertamilcollective.com
X-WR-CALDESC:Events for Queer Tamil Collective
REFRESH-INTERVAL;VALUE=DURATION:PT1H
X-Robots-Tag:noindex
X-PUBLISHED-TTL:PT1H
BEGIN:VTIMEZONE
TZID:America/Toronto
BEGIN:DAYLIGHT
TZOFFSETFROM:-0500
TZOFFSETTO:-0400
TZNAME:EDT
DTSTART:20250309T070000
END:DAYLIGHT
BEGIN:STANDARD
TZOFFSETFROM:-0400
TZOFFSETTO:-0500
TZNAME:EST
DTSTART:20251102T060000
END:STANDARD
BEGIN:DAYLIGHT
TZOFFSETFROM:-0500
TZOFFSETTO:-0400
TZNAME:EDT
DTSTART:20260308T070000
END:DAYLIGHT
BEGIN:STANDARD
TZOFFSETFROM:-0400
TZOFFSETTO:-0500
TZNAME:EST
DTSTART:20261101T060000
END:STANDARD
BEGIN:DAYLIGHT
TZOFFSETFROM:-0500
TZOFFSETTO:-0400
TZNAME:EDT
DTSTART:20270314T070000
END:DAYLIGHT
BEGIN:STANDARD
TZOFFSETFROM:-0400
TZOFFSETTO:-0500
TZNAME:EST
DTSTART:20271107T060000
END:STANDARD
END:VTIMEZONE
BEGIN:VEVENT
DTSTART;TZID=America/Toronto:20260201T000000
DTEND;TZID=America/Toronto:20260228T233000
DTSTAMP:20260422T200301
CREATED:20260114T235416Z
LAST-MODIFIED:20260117T033016Z
UID:492-1769904000-1772321400@queertamilcollective.com
SUMMARY:💜 Bisexual Health Awareness Month
DESCRIPTION:A month focused on the physical\, mental\, and emotional health of bisexual people\, who often face unique barriers in healthcare and community spaces. It highlights the need for affirming care\, visibility\, and research that reflects bi+ experiences.
URL:https://queertamilcollective.com/event/bisexual-health-awareness-month/
ATTACH;FMTTYPE=image/png:https://queertamilcollective.com/wp-content/uploads/2026/01/Feb-Month.png
END:VEVENT
BEGIN:VEVENT
DTSTART;VALUE=DATE:20260212
DTEND;VALUE=DATE:20260213
DTSTAMP:20260422T200301
CREATED:20260115T013820Z
LAST-MODIFIED:20260117T091808Z
UID:496-1770854400-1770940799@queertamilcollective.com
SUMMARY:💍 National Freedom to Marry Day
DESCRIPTION:  \nThis day recognizes the ongoing struggle for marriage equality and relationship recognition worldwide. It celebrates the right to love\, commit\, and build families freely\, while acknowledging that legal equality remains uneven across regions.
URL:https://queertamilcollective.com/event/national-freedom-to-marry-day/
ATTACH;FMTTYPE=image/png:https://queertamilcollective.com/wp-content/uploads/2026/01/Feb-12.png
END:VEVENT
END:VCALENDAR